BEGIN:VCALENDAR
VERSION:2.0
PRODID:-//Burschenverein Babensham e.V. - ECPv6.15.17.1//NONSGML v1.0//EN
CALSCALE:GREGORIAN
METHOD:PUBLISH
X-ORIGINAL-URL:https://bv-babensham.de
X-WR-CALDESC:Veranstaltungen für Burschenverein Babensham e.V.
REFRESH-INTERVAL;VALUE=DURATION:PT1H
X-Robots-Tag:noindex
X-PUBLISHED-TTL:PT1H
BEGIN:VTIMEZONE
TZID:Europe/Berlin
BEGIN:DAYLIGHT
TZOFFSETFROM:+0100
TZOFFSETTO:+0200
TZNAME:CEST
DTSTART:20250330T010000
END:DAYLIGHT
BEGIN:STANDARD
TZOFFSETFROM:+0200
TZOFFSETTO:+0100
TZNAME:CET
DTSTART:20251026T010000
END:STANDARD
BEGIN:DAYLIGHT
TZOFFSETFROM:+0100
TZOFFSETTO:+0200
TZNAME:CEST
DTSTART:20260329T010000
END:DAYLIGHT
BEGIN:STANDARD
TZOFFSETFROM:+0200
TZOFFSETTO:+0100
TZNAME:CET
DTSTART:20261025T010000
END:STANDARD
BEGIN:DAYLIGHT
TZOFFSETFROM:+0100
TZOFFSETTO:+0200
TZNAME:CEST
DTSTART:20270328T010000
END:DAYLIGHT
BEGIN:STANDARD
TZOFFSETFROM:+0200
TZOFFSETTO:+0100
TZNAME:CET
DTSTART:20271031T010000
END:STANDARD
END:VTIMEZONE
BEGIN:VEVENT
DTSTART;TZID=Europe/Berlin:20260305T180000
DTEND;TZID=Europe/Berlin:20260305T180000
DTSTAMP:20260422T215552
CREATED:20260303T213217Z
LAST-MODIFIED:20260303T213217Z
UID:5141-1772733600-1772733600@bv-babensham.de
SUMMARY:Party aufbauen
DESCRIPTION:
URL:https://bv-babensham.de/event/party-aufbauen
LOCATION:710 Deckel Party\, Kirchfeldstraße\, Babensham\, 83547\, Germany
END:VEVENT
END:VCALENDAR